BEGIN:VCALENDAR
VERSION:2.0
PRODID:-//Selbsthilfe-Kontaktstelle im Fachdienst Gesundheit Delmenhorst - ECPv6.15.20//NONSGML v1.0//EN
CALSCALE:GREGORIAN
METHOD:PUBLISH
X-WR-CALNAME:Selbsthilfe-Kontaktstelle im Fachdienst Gesundheit Delmenhorst
X-ORIGINAL-URL:https://selbsthilfe-delmenhorst.de
X-WR-CALDESC:Veranstaltungen für Selbsthilfe-Kontaktstelle im Fachdienst Gesundheit Delmenhorst
REFRESH-INTERVAL;VALUE=DURATION:PT1H
X-Robots-Tag:noindex
X-PUBLISHED-TTL:PT1H
BEGIN:VTIMEZONE
TZID:Europe/Berlin
BEGIN:DAYLIGHT
TZOFFSETFROM:+0100
TZOFFSETTO:+0200
TZNAME:CEST
DTSTART:20230326T010000
END:DAYLIGHT
BEGIN:STANDARD
TZOFFSETFROM:+0200
TZOFFSETTO:+0100
TZNAME:CET
DTSTART:20231029T010000
END:STANDARD
BEGIN:DAYLIGHT
TZOFFSETFROM:+0100
TZOFFSETTO:+0200
TZNAME:CEST
DTSTART:20240331T010000
END:DAYLIGHT
BEGIN:STANDARD
TZOFFSETFROM:+0200
TZOFFSETTO:+0100
TZNAME:CET
DTSTART:20241027T010000
END:STANDARD
BEGIN:DAYLIGHT
TZOFFSETFROM:+0100
TZOFFSETTO:+0200
TZNAME:CEST
DTSTART:20250330T010000
END:DAYLIGHT
BEGIN:STANDARD
TZOFFSETFROM:+0200
TZOFFSETTO:+0100
TZNAME:CET
DTSTART:20251026T010000
END:STANDARD
END:VTIMEZONE
BEGIN:VEVENT
DTSTART;TZID=Europe/Berlin:20241117T140000
DTEND;TZID=Europe/Berlin:20241117T160000
DTSTAMP:20260422T142814
CREATED:20241111T150456Z
LAST-MODIFIED:20241111T150537Z
UID:4096-1731852000-1731859200@selbsthilfe-delmenhorst.de
SUMMARY:Sonntags-Café für die Selbsthilfe
DESCRIPTION:Die Selbsthilfegruppe „Atemlos“ veranstaltet am 17.11.2024 um 14 Uhr ein Sonntags-Café\, um mit den anderen örtlichen Selbsthilfegruppen in den Austausch zu kommen. Anmeldungen nimmt Christa per Mail entgegen: ch.meta.anna@t-online.de\nDie ein oder andere helfende Hand ist sicherlich gerne gesehen!
URL:https://selbsthilfe-delmenhorst.de/veranstaltung/sonntags-cafe-fuer-die-selbsthilfe/
LOCATION:Schaar-Haus (Bremer Straße 14\, Delmenhorst)\, Bremer Straße 14\, Delmenhorst\, 27749\, Deutschland
CATEGORIES:Selbsthilfe Delmenhorst
ORGANIZER;CN="Selbsthilfegruppe Atemlos":MAILTO:ch.meta.anna@t-online.de
END:VEVENT
END:VCALENDAR