BEGIN:VCALENDAR
VERSION:2.0
PRODID:-//Selbsthilfe-Kontaktstelle im Fachdienst Gesundheit Delmenhorst - ECPv6.15.20//NONSGML v1.0//EN
CALSCALE:GREGORIAN
METHOD:PUBLISH
X-WR-CALNAME:Selbsthilfe-Kontaktstelle im Fachdienst Gesundheit Delmenhorst
X-ORIGINAL-URL:https://selbsthilfe-delmenhorst.de
X-WR-CALDESC:Veranstaltungen für Selbsthilfe-Kontaktstelle im Fachdienst Gesundheit Delmenhorst
REFRESH-INTERVAL;VALUE=DURATION:PT1H
X-Robots-Tag:noindex
X-PUBLISHED-TTL:PT1H
BEGIN:VTIMEZONE
TZID:Europe/Berlin
BEGIN:DAYLIGHT
TZOFFSETFROM:+0100
TZOFFSETTO:+0200
TZNAME:CEST
DTSTART:20230326T010000
END:DAYLIGHT
BEGIN:STANDARD
TZOFFSETFROM:+0200
TZOFFSETTO:+0100
TZNAME:CET
DTSTART:20231029T010000
END:STANDARD
BEGIN:DAYLIGHT
TZOFFSETFROM:+0100
TZOFFSETTO:+0200
TZNAME:CEST
DTSTART:20240331T010000
END:DAYLIGHT
BEGIN:STANDARD
TZOFFSETFROM:+0200
TZOFFSETTO:+0100
TZNAME:CET
DTSTART:20241027T010000
END:STANDARD
BEGIN:DAYLIGHT
TZOFFSETFROM:+0100
TZOFFSETTO:+0200
TZNAME:CEST
DTSTART:20250330T010000
END:DAYLIGHT
BEGIN:STANDARD
TZOFFSETFROM:+0200
TZOFFSETTO:+0100
TZNAME:CET
DTSTART:20251026T010000
END:STANDARD
END:VTIMEZONE
BEGIN:VEVENT
DTSTART;TZID=Europe/Berlin:20241214T100000
DTEND;TZID=Europe/Berlin:20241214T160000
DTSTAMP:20260422T125034
CREATED:20241029T163402Z
LAST-MODIFIED:20241029T163439Z
UID:4048-1734170400-1734192000@selbsthilfe-delmenhorst.de
SUMMARY:Fortbildung: Gewaltfreie Kommunikation und lebendige Selbsthilfe
DESCRIPTION:Am Samstag\, den 14.12.2024 veranstaltet die Selbsthilfe-Kontaktstelle eine Fortbildung für alle in der Selbsthilfe engagierten Personen. Die Fortbildung findet von 10 bis 16 Uhr im Schaar-Haus statt. Wir freuen uns darauf\, dass Daniela Hirt zu den Themen „Gewaltfreie Kommunikation und lebendige Selbsthilfe“ referieren wird. Bei diesem Workshop erhaltet ihr praktische Tipps für die Kommunikation und Entspannung im Alltag und in der Gruppenarbeit. Kommt vorbei! \nDie Fortbildung ist kostenlos. Verbindliche Anmeldungen werden bis zum 06.12.2024 entgegengenommen. \n(04221) 99-2625\nselbsthilfe-kontaktstelle@delmenhorst.de
URL:https://selbsthilfe-delmenhorst.de/veranstaltung/fortbildung-fuer-engagierte-in-der-selbsthilfe/
LOCATION:Schaar-Haus (Bremer Straße 14\, Delmenhorst)\, Bremer Straße 14\, Delmenhorst\, 27749\, Deutschland
CATEGORIES:Selbsthilfe Delmenhorst
ATTACH;FMTTYPE=image/png:https://selbsthilfe-delmenhorst.de/wp-content/uploads/2024/10/Samstag-14.12.2024.png
ORGANIZER;CN="Selbsthilfe-Kontaktstelle im Fachdienst Gesundheit Delmenhorst":MAILTO:selbsthilfe-kontaktstelle@delmenhorst.de
END:VEVENT
END:VCALENDAR