BEGIN:VCALENDAR
VERSION:2.0
PRODID:-//Selbsthilfe-Kontaktstelle im Fachdienst Gesundheit Delmenhorst - ECPv6.15.20//NONSGML v1.0//EN
CALSCALE:GREGORIAN
METHOD:PUBLISH
X-WR-CALNAME:Selbsthilfe-Kontaktstelle im Fachdienst Gesundheit Delmenhorst
X-ORIGINAL-URL:https://selbsthilfe-delmenhorst.de
X-WR-CALDESC:Veranstaltungen für Selbsthilfe-Kontaktstelle im Fachdienst Gesundheit Delmenhorst
REFRESH-INTERVAL;VALUE=DURATION:PT1H
X-Robots-Tag:noindex
X-PUBLISHED-TTL:PT1H
BEGIN:VTIMEZONE
TZID:Europe/Berlin
BEGIN:DAYLIGHT
TZOFFSETFROM:+0100
TZOFFSETTO:+0200
TZNAME:CEST
DTSTART:20240331T010000
END:DAYLIGHT
BEGIN:STANDARD
TZOFFSETFROM:+0200
TZOFFSETTO:+0100
TZNAME:CET
DTSTART:20241027T010000
END:STANDARD
BEGIN:DAYLIGHT
TZOFFSETFROM:+0100
TZOFFSETTO:+0200
TZNAME:CEST
DTSTART:20250330T010000
END:DAYLIGHT
BEGIN:STANDARD
TZOFFSETFROM:+0200
TZOFFSETTO:+0100
TZNAME:CET
DTSTART:20251026T010000
END:STANDARD
BEGIN:DAYLIGHT
TZOFFSETFROM:+0100
TZOFFSETTO:+0200
TZNAME:CEST
DTSTART:20260329T010000
END:DAYLIGHT
BEGIN:STANDARD
TZOFFSETFROM:+0200
TZOFFSETTO:+0100
TZNAME:CET
DTSTART:20261025T010000
END:STANDARD
END:VTIMEZONE
BEGIN:VEVENT
DTSTART;TZID=Europe/Berlin:20250128T150000
DTEND;TZID=Europe/Berlin:20250128T170000
DTSTAMP:20260420T104221
CREATED:20250110T104318Z
LAST-MODIFIED:20250110T104452Z
UID:4319-1738076400-1738083600@selbsthilfe-delmenhorst.de
SUMMARY:Finanzielle Förderung von Selbsthilfegruppen
DESCRIPTION:Frau Grieshop-Matterne von der AOK Niedersachsen und Patrick Hillebrand von der Selbsthilfe-Kontaktstelle stellen Finanzierungsmöglichkeiten für Selbsthilfegruppen vor. Alle Selbsthilfegruppen sind eingeladen\, Abgesandte zu schicken\, um sich über die unterschiedlichen Finanzierungsmöglichkeiten zu informieren. Anmeldungen werden entgegengenommen\, solange Plätze frei sind. Die Teilnahme ist kostenfrei.
URL:https://selbsthilfe-delmenhorst.de/veranstaltung/finanzielle-foerderung-von-selbsthilfegruppen/
LOCATION:Schaar-Haus (Bremer Straße 14\, Delmenhorst)\, Bremer Straße 14\, Delmenhorst\, 27749\, Deutschland
CATEGORIES:Informationsveranstaltung
ATTACH;FMTTYPE=image/jpeg:https://selbsthilfe-delmenhorst.de/wp-content/uploads/2025/01/Sparschwein-e1736505882815.jpg
ORGANIZER;CN="Selbsthilfe-Kontaktstelle im Fachdienst Gesundheit Delmenhorst":MAILTO:selbsthilfe-kontaktstelle@delmenhorst.de
END:VEVENT
END:VCALENDAR