BEGIN:VCALENDAR
VERSION:2.0
PRODID:-//Selbsthilfe-Kontaktstelle im Fachdienst Gesundheit Delmenhorst - ECPv6.15.20//NONSGML v1.0//EN
CALSCALE:GREGORIAN
METHOD:PUBLISH
X-WR-CALNAME:Selbsthilfe-Kontaktstelle im Fachdienst Gesundheit Delmenhorst
X-ORIGINAL-URL:https://selbsthilfe-delmenhorst.de
X-WR-CALDESC:Veranstaltungen für Selbsthilfe-Kontaktstelle im Fachdienst Gesundheit Delmenhorst
REFRESH-INTERVAL;VALUE=DURATION:PT1H
X-Robots-Tag:noindex
X-PUBLISHED-TTL:PT1H
BEGIN:VTIMEZONE
TZID:Europe/Berlin
BEGIN:DAYLIGHT
TZOFFSETFROM:+0100
TZOFFSETTO:+0200
TZNAME:CEST
DTSTART:20240331T010000
END:DAYLIGHT
BEGIN:STANDARD
TZOFFSETFROM:+0200
TZOFFSETTO:+0100
TZNAME:CET
DTSTART:20241027T010000
END:STANDARD
BEGIN:DAYLIGHT
TZOFFSETFROM:+0100
TZOFFSETTO:+0200
TZNAME:CEST
DTSTART:20250330T010000
END:DAYLIGHT
BEGIN:STANDARD
TZOFFSETFROM:+0200
TZOFFSETTO:+0100
TZNAME:CET
DTSTART:20251026T010000
END:STANDARD
BEGIN:DAYLIGHT
TZOFFSETFROM:+0100
TZOFFSETTO:+0200
TZNAME:CEST
DTSTART:20260329T010000
END:DAYLIGHT
BEGIN:STANDARD
TZOFFSETFROM:+0200
TZOFFSETTO:+0100
TZNAME:CET
DTSTART:20261025T010000
END:STANDARD
END:VTIMEZONE
BEGIN:VEVENT
DTSTART;TZID=Europe/Berlin:20250201T100000
DTEND;TZID=Europe/Berlin:20250201T160000
DTSTAMP:20260420T092204
CREATED:20250110T105610Z
LAST-MODIFIED:20250110T105610Z
UID:4324-1738404000-1738425600@selbsthilfe-delmenhorst.de
SUMMARY:Fortbildung für die Selbsthilfe: „Das Miteinander gestalten – „Neue“ in der Selbsthilfegruppe“
DESCRIPTION:Daniela Hirt wird den Tag begleiten. Inhalt sind: Rituale und Regeln in\nSelbsthilfegruppen\, Veränderungskultur und Integration von „Neuen“. Alle Selbsthilfeaktive sind eingeladen. Anmeldungen werden bis zum 27. Januar 2025 entgegengenommen. Speisen und Getränke werden nicht bereitgestellt. Die Teilnahme ist kostenfrei.
URL:https://selbsthilfe-delmenhorst.de/veranstaltung/fortbildung-fuer-die-selbsthilfe-das-miteinander-gestalten-neue-in-der-selbsthilfegruppe/
LOCATION:Schaar-Haus (Bremer Straße 14\, Delmenhorst)\, Bremer Straße 14\, Delmenhorst\, 27749\, Deutschland
CATEGORIES:Fortbildung
ATTACH;FMTTYPE=image/png:https://selbsthilfe-delmenhorst.de/wp-content/uploads/2025/01/Seminar-e1736506536701.png
ORGANIZER;CN="Selbsthilfe-Kontaktstelle im Fachdienst Gesundheit Delmenhorst":MAILTO:selbsthilfe-kontaktstelle@delmenhorst.de
END:VEVENT
END:VCALENDAR