BEGIN:VCALENDAR
VERSION:2.0
PRODID:-//Selbsthilfe-Kontaktstelle im Fachdienst Gesundheit Delmenhorst - ECPv6.15.20//NONSGML v1.0//EN
CALSCALE:GREGORIAN
METHOD:PUBLISH
X-WR-CALNAME:Selbsthilfe-Kontaktstelle im Fachdienst Gesundheit Delmenhorst
X-ORIGINAL-URL:https://selbsthilfe-delmenhorst.de
X-WR-CALDESC:Veranstaltungen für Selbsthilfe-Kontaktstelle im Fachdienst Gesundheit Delmenhorst
REFRESH-INTERVAL;VALUE=DURATION:PT1H
X-Robots-Tag:noindex
X-PUBLISHED-TTL:PT1H
BEGIN:VTIMEZONE
TZID:Europe/Berlin
BEGIN:DAYLIGHT
TZOFFSETFROM:+0100
TZOFFSETTO:+0200
TZNAME:CEST
DTSTART:20240331T010000
END:DAYLIGHT
BEGIN:STANDARD
TZOFFSETFROM:+0200
TZOFFSETTO:+0100
TZNAME:CET
DTSTART:20241027T010000
END:STANDARD
BEGIN:DAYLIGHT
TZOFFSETFROM:+0100
TZOFFSETTO:+0200
TZNAME:CEST
DTSTART:20250330T010000
END:DAYLIGHT
BEGIN:STANDARD
TZOFFSETFROM:+0200
TZOFFSETTO:+0100
TZNAME:CET
DTSTART:20251026T010000
END:STANDARD
BEGIN:DAYLIGHT
TZOFFSETFROM:+0100
TZOFFSETTO:+0200
TZNAME:CEST
DTSTART:20260329T010000
END:DAYLIGHT
BEGIN:STANDARD
TZOFFSETFROM:+0200
TZOFFSETTO:+0100
TZNAME:CET
DTSTART:20261025T010000
END:STANDARD
END:VTIMEZONE
BEGIN:VEVENT
DTSTART;TZID=Europe/Berlin:20250510T140000
DTEND;TZID=Europe/Berlin:20250510T180000
DTSTAMP:20260420T044205
CREATED:20250320T071604Z
LAST-MODIFIED:20250320T071604Z
UID:4596-1746885600-1746900000@selbsthilfe-delmenhorst.de
SUMMARY:Tag der offenen Tür im Schaar-Haus
DESCRIPTION:40 Jahre „Die Kette e.V.“: Das feiert die Delmenhorster Selbsthilfe bei einem Tag der offenen Tür am Samstag\, den 10. Mai von 14 bis 18 Uhr im Schaar-Haus. Wir öffnen die Pforten und zeigen die vier Gruppenräume im Schaar-Haus\, die von den Gruppen kostenfrei genutzt werden. Das ist die Gelegenheit\, sich mit unseren Räumlichkeiten vertraut zu machen\, und die vielfältige Delmenhorster Selbsthilfelandschaft kennenzulernen. Von Gruppen für Eltern\, Angehörige\, Betroffene und Gruppen für junge Erwachsene über Männer- oder Frauengruppen bis hin zu Gruppen für psychische und körperliche Erkrankungen und die Gesundheiterhaltung: Reden hilft. Heino und die Konsorten sorgen für die musikalische Begleitung und es gibt Kaffee und Kuchen. Sie sind herzlich eingeladen! Die Teilnahme ist kostenlos.
URL:https://selbsthilfe-delmenhorst.de/veranstaltung/tag-der-offenen-tuer-im-schaar-haus/
LOCATION:Schaar-Haus (Bremer Straße 14\, Delmenhorst)\, Bremer Straße 14\, Delmenhorst\, 27749\, Deutschland
CATEGORIES:Selbsthilfe Delmenhorst,Tag der Selbsthilfe
ATTACH;FMTTYPE=image/jpeg:https://selbsthilfe-delmenhorst.de/wp-content/uploads/2025/02/240724_Schaar-Haus_jef-1-scaled.jpg
ORGANIZER;CN="Selbsthilfe-Kontaktstelle im Fachdienst Gesundheit Delmenhorst":MAILTO:selbsthilfe-kontaktstelle@delmenhorst.de
END:VEVENT
END:VCALENDAR